BEGIN:VCALENDAR
VERSION:2.0
PRODID:-//Safer Society Foundation - ECPv6.15.20//NONSGML v1.0//EN
CALSCALE:GREGORIAN
METHOD:PUBLISH
X-ORIGINAL-URL:https://safersociety.org
X-WR-CALDESC:Events for Safer Society Foundation
REFRESH-INTERVAL;VALUE=DURATION:PT1H
X-Robots-Tag:noindex
X-PUBLISHED-TTL:PT1H
BEGIN:VTIMEZONE
TZID:America/New_York
BEGIN:DAYLIGHT
TZOFFSETFROM:-0500
TZOFFSETTO:-0400
TZNAME:EDT
DTSTART:20230312T070000
END:DAYLIGHT
BEGIN:STANDARD
TZOFFSETFROM:-0400
TZOFFSETTO:-0500
TZNAME:EST
DTSTART:20231105T060000
END:STANDARD
BEGIN:DAYLIGHT
TZOFFSETFROM:-0500
TZOFFSETTO:-0400
TZNAME:EDT
DTSTART:20240310T070000
END:DAYLIGHT
BEGIN:STANDARD
TZOFFSETFROM:-0400
TZOFFSETTO:-0500
TZNAME:EST
DTSTART:20241103T060000
END:STANDARD
BEGIN:DAYLIGHT
TZOFFSETFROM:-0500
TZOFFSETTO:-0400
TZNAME:EDT
DTSTART:20250309T070000
END:DAYLIGHT
BEGIN:STANDARD
TZOFFSETFROM:-0400
TZOFFSETTO:-0500
TZNAME:EST
DTSTART:20251102T060000
END:STANDARD
END:VTIMEZONE
BEGIN:VEVENT
DTSTART;TZID=America/New_York:20240904T110000
DTEND;TZID=America/New_York:20240904T130000
DTSTAMP:20260425T104319
CREATED:20240709T131824Z
LAST-MODIFIED:20240709T132210Z
UID:10000162-1725447600-1725454800@safersociety.org
SUMMARY:Clinical Supervision of Professionals Treating Sexual Aggression
DESCRIPTION:
URL:https://safersociety.org/event/clinical-supervision-of-professionals-treating-sexual-aggression/
CATEGORIES:Online Training
ATTACH;FMTTYPE=image/png:https://safersociety.org/wp-content/uploads/2024/07/NOT116-Prescott-Must-Live-Banner.png
END:VEVENT
BEGIN:VEVENT
DTSTART;TZID=America/New_York:20240905T130000
DTEND;TZID=America/New_York:20240905T150000
DTSTAMP:20260425T104319
CREATED:20240715T185838Z
LAST-MODIFIED:20240715T185838Z
UID:10000166-1725541200-1725548400@safersociety.org
SUMMARY:Engagement: Mastering Empathic Listening & Compassionate Practice
DESCRIPTION:
URL:https://safersociety.org/event/engagement-mastering-empathic-listening-compassionate-practice/
CATEGORIES:Online Training
ATTACH;FMTTYPE=image/png:https://safersociety.org/wp-content/uploads/2024/07/NOT115-01_Andrew-Course-Feature-Banner.png
END:VEVENT
BEGIN:VEVENT
DTSTART;TZID=America/New_York:20240906T130000
DTEND;TZID=America/New_York:20240906T140000
DTSTAMP:20260425T104319
CREATED:20240802T195416Z
LAST-MODIFIED:20240802T195416Z
UID:10000184-1725627600-1725631200@safersociety.org
SUMMARY:Our Safe Haven: Creating Safe Spaces for LGBTQ+ Clients and Providers
DESCRIPTION:
URL:https://safersociety.org/event/our-safe-haven-creating-safe-spaces-for-lgbtq-clients-and-providers-3/
ATTACH;FMTTYPE=image/png:https://safersociety.org/wp-content/uploads/2024/07/OSH-Safe-Space-for-LGBTQ-Feature-Banner.png
END:VEVENT
BEGIN:VEVENT
DTSTART;TZID=America/New_York:20240910T110000
DTEND;TZID=America/New_York:20240910T130000
DTSTAMP:20260425T104319
CREATED:20240725T230819Z
LAST-MODIFIED:20240725T230819Z
UID:10000176-1725966000-1725973200@safersociety.org
SUMMARY:How Sex Positivity Improves Sexual Offense-Specific Treatment
DESCRIPTION:
URL:https://safersociety.org/event/how-sex-positivity-improves-sexual-offense-specific-treatment/
ATTACH;FMTTYPE=image/png:https://safersociety.org/wp-content/uploads/2024/07/NOT118_Ballinger-Feature-Banner-02.png
END:VEVENT
BEGIN:VEVENT
DTSTART;TZID=America/New_York:20240911T120000
DTEND;TZID=America/New_York:20240911T130000
DTSTAMP:20260425T104319
CREATED:20240725T230127Z
LAST-MODIFIED:20240918T134255Z
UID:10000173-1726056000-1726059600@safersociety.org
SUMMARY:Our Safe Haven: Supporting Youths Through the Complexities of Sexually Explicit Media
DESCRIPTION:
URL:https://safersociety.org/event/our-safe-haven-supporting-youths-through-the-complexities-of-sexually-explicit-media-3/
ATTACH;FMTTYPE=image/png:https://safersociety.org/wp-content/uploads/2024/07/OSH-Trafficking-1-Web-Banner-Updated.png
END:VEVENT
BEGIN:VEVENT
DTSTART;TZID=America/New_York:20240912T110000
DTEND;TZID=America/New_York:20240912T130000
DTSTAMP:20260425T104319
CREATED:20240715T190015Z
LAST-MODIFIED:20240715T190015Z
UID:10000167-1726138800-1726146000@safersociety.org
SUMMARY:Ambivalence / Duality: Mastering Empathic Listening & Compassionate Practice
DESCRIPTION:
URL:https://safersociety.org/event/ambivalence-duality-mastering-empathic-listening-compassionate-practice/
CATEGORIES:Online Training
ATTACH;FMTTYPE=image/png:https://safersociety.org/wp-content/uploads/2024/07/NOT115-02_Andrew-Course-Feature-Banner.png
END:VEVENT
BEGIN:VEVENT
DTSTART;TZID=America/New_York:20240913T110000
DTEND;TZID=America/New_York:20240913T134500
DTSTAMP:20260425T104319
CREATED:20240719T195234Z
LAST-MODIFIED:20240719T195234Z
UID:10000170-1726225200-1726235100@safersociety.org
SUMMARY:Evidence-Based Strategies for Treating Individuals with Autism Spectrum Disorder Who Sexually Harm
DESCRIPTION:
URL:https://safersociety.org/event/evidence-based-strategies-for-treating-individuals-with-autism-spectrum-disorder-who-sexually-harm/
CATEGORIES:Online Training
ATTACH;FMTTYPE=image/png:https://safersociety.org/wp-content/uploads/2024/07/OT251_Spence-Banner.png
END:VEVENT
BEGIN:VEVENT
DTSTART;TZID=America/New_York:20240918T110000
DTEND;TZID=America/New_York:20240918T153000
DTSTAMP:20260425T104319
CREATED:20240613T130905Z
LAST-MODIFIED:20240709T132242Z
UID:10000157-1726657200-1726673400@safersociety.org
SUMMARY:Building Culturally Competent Assessment and Treatment
DESCRIPTION:
URL:https://safersociety.org/event/building-culturally-competent-assessment-and-treatment/
CATEGORIES:Online Training
ATTACH;FMTTYPE=image/png:https://safersociety.org/wp-content/uploads/2024/05/OT249-Wright-Banner_Update.png
END:VEVENT
BEGIN:VEVENT
DTSTART;TZID=America/New_York:20240919T130000
DTEND;TZID=America/New_York:20240919T150000
DTSTAMP:20260425T104319
CREATED:20240715T190152Z
LAST-MODIFIED:20240715T190152Z
UID:10000168-1726750800-1726758000@safersociety.org
SUMMARY:Change Talk - Hopes and Dreams: Mastering Empathic Listening & Compassionate Practice
DESCRIPTION:
URL:https://safersociety.org/event/change-talk-hopes-and-dreams-mastering-empathic-listening-compassionate-practice/
CATEGORIES:Online Training
ATTACH;FMTTYPE=image/png:https://safersociety.org/wp-content/uploads/2024/07/NOT115-03_Andrew-Course-Feature-Banner.png
END:VEVENT
BEGIN:VEVENT
DTSTART;TZID=America/New_York:20240920T150000
DTEND;TZID=America/New_York:20240920T160000
DTSTAMP:20260425T104319
CREATED:20240725T230544Z
LAST-MODIFIED:20240904T181028Z
UID:10000175-1726844400-1726848000@safersociety.org
SUMMARY:Enhancing Mental Health Support for LGBTQ+ Youths
DESCRIPTION:
URL:https://safersociety.org/event/rainbow-helpers-enhancing-mental-health-support-for-lgbtq-youths/
CATEGORIES:Webinar
ATTACH;FMTTYPE=image/png:https://safersociety.org/wp-content/uploads/2024/07/WP764-UPDATED-Feature-Banner-1.png
END:VEVENT
BEGIN:VEVENT
DTSTART;TZID=America/New_York:20240924T110000
DTEND;TZID=America/New_York:20240924T130000
DTSTAMP:20260425T104319
CREATED:20240715T191604Z
LAST-MODIFIED:20240715T191604Z
UID:10000169-1727175600-1727182800@safersociety.org
SUMMARY:Beyond Motivational Interviewing: Mastering Empathic Listening & Compassionate Practice
DESCRIPTION:
URL:https://safersociety.org/event/beyond-motivational-interviewing-mastering-empathic-listening-compassionate-practice/
CATEGORIES:Online Training
ATTACH;FMTTYPE=image/png:https://safersociety.org/wp-content/uploads/2024/07/NOT115-04_Andrew-Course-Feature-Banner.png
END:VEVENT
BEGIN:VEVENT
DTSTART;TZID=America/New_York:20240927T150000
DTEND;TZID=America/New_York:20240927T160000
DTSTAMP:20260425T104319
CREATED:20240802T192441Z
LAST-MODIFIED:20240802T193042Z
UID:10000177-1727449200-1727452800@safersociety.org
SUMMARY:Our Safe Haven: Addressing the Complexities of Sex Trafficking
DESCRIPTION:
URL:https://safersociety.org/event/our-safe-haven-addressing-the-complexities-of-sex-trafficking-2/
ATTACH;FMTTYPE=image/png:https://safersociety.org/wp-content/uploads/2024/05/OSH-Trafficking-1-Web-Banner.png
END:VEVENT
END:VCALENDAR