BEGIN:VCALENDAR
VERSION:2.0
PRODID:-//Safer Society Foundation - ECPv6.15.20//NONSGML v1.0//EN
CALSCALE:GREGORIAN
METHOD:PUBLISH
X-WR-CALNAME:Safer Society Foundation
X-ORIGINAL-URL:https://safersociety.org
X-WR-CALDESC:Events for Safer Society Foundation
REFRESH-INTERVAL;VALUE=DURATION:PT1H
X-Robots-Tag:noindex
X-PUBLISHED-TTL:PT1H
BEGIN:VTIMEZONE
TZID:America/New_York
BEGIN:DAYLIGHT
TZOFFSETFROM:-0500
TZOFFSETTO:-0400
TZNAME:EDT
DTSTART:20230312T070000
END:DAYLIGHT
BEGIN:STANDARD
TZOFFSETFROM:-0400
TZOFFSETTO:-0500
TZNAME:EST
DTSTART:20231105T060000
END:STANDARD
BEGIN:DAYLIGHT
TZOFFSETFROM:-0500
TZOFFSETTO:-0400
TZNAME:EDT
DTSTART:20240310T070000
END:DAYLIGHT
BEGIN:STANDARD
TZOFFSETFROM:-0400
TZOFFSETTO:-0500
TZNAME:EST
DTSTART:20241103T060000
END:STANDARD
BEGIN:DAYLIGHT
TZOFFSETFROM:-0500
TZOFFSETTO:-0400
TZNAME:EDT
DTSTART:20250309T070000
END:DAYLIGHT
BEGIN:STANDARD
TZOFFSETFROM:-0400
TZOFFSETTO:-0500
TZNAME:EST
DTSTART:20251102T060000
END:STANDARD
END:VTIMEZONE
BEGIN:VEVENT
DTSTART;TZID=America/New_York:20240702T110000
DTEND;TZID=America/New_York:20240702T141500
DTSTAMP:20260425T233624
CREATED:20240415T205340Z
LAST-MODIFIED:20240421T174011Z
UID:10000139-1719918000-1719929700@safersociety.org
SUMMARY:Addressing Adolescent Exposure to Pornography
DESCRIPTION:
URL:https://safersociety.org/event/addressing-adolescent-exposure-to-pornography/
CATEGORIES:Online Training
ATTACH;FMTTYPE=image/png:https://safersociety.org/wp-content/uploads/2024/04/NOT112_Wescott-Prescott-Feature-Banner-1.png
END:VEVENT
BEGIN:VEVENT
DTSTART;TZID=America/New_York:20240710T080000
DTEND;TZID=America/New_York:20240710T170000
DTSTAMP:20260425T233624
CREATED:20240321T145921Z
LAST-MODIFIED:20240421T174004Z
UID:10000136-1720598400-1720630800@safersociety.org
SUMMARY:Working with Non-Traditional Sexual Interests in Sexual Offense Treatment
DESCRIPTION:
URL:https://safersociety.org/event/working-with-non-traditional-sexual-interests-in-sexual-offense-treatment/
CATEGORIES:Online Training
ATTACH;FMTTYPE=image/png:https://safersociety.org/wp-content/uploads/2024/03/OT246-Nassen-Shepard-Banner.png
END:VEVENT
BEGIN:VEVENT
DTSTART;TZID=America/New_York:20240717T110000
DTEND;TZID=America/New_York:20240717T130000
DTSTAMP:20260425T233624
CREATED:20240613T131711Z
LAST-MODIFIED:20240613T131711Z
UID:10000158-1721214000-1721221200@safersociety.org
SUMMARY:Exploring Cultural Competence in Forensic Practice:  What Can We Learn from Evaluations and Treatment with Myanmar Refugees?
DESCRIPTION:
URL:https://safersociety.org/event/exploring-cultural-competence-in-forensic-practice-what-can-we-learn-from-evaluations-and-treatment-with-myanmar-refugees/
CATEGORIES:Online Training
ATTACH;FMTTYPE=image/png:https://safersociety.org/wp-content/uploads/2024/06/NOT113_Zaw-Sreenivasan-Prescott-Feature-Banner.png
END:VEVENT
BEGIN:VEVENT
DTSTART;TZID=America/New_York:20240718T110000
DTEND;TZID=America/New_York:20240718T141500
DTSTAMP:20260425T233624
CREATED:20240510T202022Z
LAST-MODIFIED:20240510T202022Z
UID:10000150-1721300400-1721312100@safersociety.org
SUMMARY:Blending Motivational Interviewing Skills with Solution-Focused Brief Therapy
DESCRIPTION:
URL:https://safersociety.org/event/blending-motivational-interviewing-skills-with-solution-focused-brief-therapy/
CATEGORIES:Online Training
ATTACH;FMTTYPE=image/png:https://safersociety.org/wp-content/uploads/2024/05/NOT114_Stout-Feature-Banner.png
END:VEVENT
BEGIN:VEVENT
DTSTART;TZID=America/New_York:20240730T110000
DTEND;TZID=America/New_York:20240730T130000
DTSTAMP:20260425T233624
CREATED:20240531T145916Z
LAST-MODIFIED:20240531T150124Z
UID:10000156-1722337200-1722344400@safersociety.org
SUMMARY:The Role of Empathy in Shaping the Lives of Justice-Involved Men
DESCRIPTION:
URL:https://safersociety.org/event/the-role-of-empathy-in-shaping-the-lives-of-justice-involved-men/
CATEGORIES:Online Training
ATTACH;FMTTYPE=image/png:https://safersociety.org/wp-content/uploads/2024/05/NOT117-Leguizamo-Prescott-Live-Banner.png
END:VEVENT
END:VCALENDAR