BEGIN:VCALENDAR
VERSION:2.0
PRODID:-//Safer Society Foundation - ECPv6.15.20//NONSGML v1.0//EN
CALSCALE:GREGORIAN
METHOD:PUBLISH
X-ORIGINAL-URL:https://safersociety.org
X-WR-CALDESC:Events for Safer Society Foundation
REFRESH-INTERVAL;VALUE=DURATION:PT1H
X-Robots-Tag:noindex
X-PUBLISHED-TTL:PT1H
BEGIN:VTIMEZONE
TZID:America/New_York
BEGIN:DAYLIGHT
TZOFFSETFROM:-0500
TZOFFSETTO:-0400
TZNAME:EDT
DTSTART:20230312T070000
END:DAYLIGHT
BEGIN:STANDARD
TZOFFSETFROM:-0400
TZOFFSETTO:-0500
TZNAME:EST
DTSTART:20231105T060000
END:STANDARD
BEGIN:DAYLIGHT
TZOFFSETFROM:-0500
TZOFFSETTO:-0400
TZNAME:EDT
DTSTART:20240310T070000
END:DAYLIGHT
BEGIN:STANDARD
TZOFFSETFROM:-0400
TZOFFSETTO:-0500
TZNAME:EST
DTSTART:20241103T060000
END:STANDARD
BEGIN:DAYLIGHT
TZOFFSETFROM:-0500
TZOFFSETTO:-0400
TZNAME:EDT
DTSTART:20250309T070000
END:DAYLIGHT
BEGIN:STANDARD
TZOFFSETFROM:-0400
TZOFFSETTO:-0500
TZNAME:EST
DTSTART:20251102T060000
END:STANDARD
END:VTIMEZONE
BEGIN:VEVENT
DTSTART;TZID=America/New_York:20241213T120000
DTEND;TZID=America/New_York:20241213T130000
DTSTAMP:20260425T072858
CREATED:20241112T154035Z
LAST-MODIFIED:20241112T154035Z
UID:10000208-1734091200-1734094800@safersociety.org
SUMMARY:Our Safe Haven: Creating Safe Spaces for LGBTQ+ Clients and Providers
DESCRIPTION:
URL:https://safersociety.org/event/our-safe-haven-creating-safe-spaces-for-lgbtq-clients-and-providers-5/
ATTACH;FMTTYPE=image/png:https://safersociety.org/wp-content/uploads/2024/07/OSH-Safe-Space-for-LGBTQ-Feature-Banner.png
END:VEVENT
BEGIN:VEVENT
DTSTART;TZID=America/New_York:20241213T160000
DTEND;TZID=America/New_York:20241213T170000
DTSTAMP:20260425T072858
CREATED:20241105T193530Z
LAST-MODIFIED:20241105T193530Z
UID:10000204-1734105600-1734109200@safersociety.org
SUMMARY:Our Safe Haven: Encountering Cases of Sibling Sexual Abuse
DESCRIPTION:
URL:https://safersociety.org/event/our-safe-haven-encountering-cases-of-sibling-sexual-abuse-5/
ATTACH;FMTTYPE=image/png:https://safersociety.org/wp-content/uploads/2024/03/OSH-Sibling-Sexual-Abuse-Web-Banner-1.png
END:VEVENT
END:VCALENDAR